BEGIN:VCALENDAR
VERSION:2.0
PRODID:-//https://nuovo.discovercampania.it///NONSGML kigkonsult.se iCalcreator 2.10.15//
METHOD:PUBLISH
BEGIN:VEVENT
UID:20260423T081943CEST-4401BCveuo@https://nuovo.discovercampania.it/
DTSTAMP:20260423T061943Z
DESCRIPTION:Il Castello del Gusto: per un intero week end a Sessa Aurunca s
 aranno protagonisti i rinomati tartufi raccolti nel territorio\, ispirator
 i di varie ricette e piatti tipici https://nuovo.discovercampania.it/en/ev
 ents-calendar/event/1621-il-castello-del-gusto-a-sessa-aurunca
DTSTART:20250711T202000Z
DTEND:20250712T220000Z
LOCATION:SESSA AURUNCA (CE) – Piazza Arcieri Del Vecchio Castello  (81037 S
 essa Aurunca CE\, Italia)
SUMMARY:Il castello del Gusto a Sessa Aurunca
URL:https://nuovo.discovercampania.it/en/events-calendar/event/1621-il-cast
 ello-del-gusto-a-sessa-aurunca
END:VEVENT
END:VCALENDAR
