BEGIN:VCALENDAR
VERSION:2.0
PRODID:-//https://nuovo.discovercampania.it///NONSGML kigkonsult.se iCalcreator 2.10.15//
METHOD:PUBLISH
BEGIN:VEVENT
UID:20260425T052622CEST-6956pGbnbX@https://nuovo.discovercampania.it/
DTSTAMP:20260425T032622Z
DESCRIPTION:26-27-28 agosto 2022 / 2-3-4 settembre 2022 /&nbsp\; 9-10-11 se
 ttembre 2022&nbsp\; dalle ore 20.30\nApertura serale degli stand gastronom
 ici per gustare tipicità a base di pesce\, tra cui il cuoppo di mare. Gli 
 appuntamenti sono a cura del Comitato della Croce Rossa di Ercolano e il r
 icavato sarà devoluto in beneficenza.&nbsp\;\nPrenotazione mail o whatspp 
 al 331 273 0274\nPh:Vesuviolive\n https://nuovo.discovercampania.it/calend
 ario-eventi/Evento/964-sagra-del-pesce
DTSTART:20220826T081500Z
DTEND:20220911T183000Z
LOCATION:Via dei Papiri Ercolanesi\, 80056 Ercolano NA\, Italia (Via dei Pa
 piri Ercolanesi\, 80056 Ercolano NA\, Italia)
SUMMARY:Sagra del Pesce 
URL:https://nuovo.discovercampania.it/calendario-eventi/Evento/964-sagra-de
 l-pesce
END:VEVENT
END:VCALENDAR
