BEGIN:VCALENDAR
VERSION:2.0
PRODID:-//https://nuovo.discovercampania.it///NONSGML kigkonsult.se iCalcreator 2.10.15//
METHOD:PUBLISH
BEGIN:VEVENT
UID:20260424T180108CEST-4220jdv3zu@https://nuovo.discovercampania.it/
DTSTAMP:20260424T160108Z
DESCRIPTION:Dalle ore 17.00 alle 24.00\n“Gusto Italia in tour” fa tappa per
  quest’ultimo week end di agosto ad Acciaroli. Numerosi sono gli stand di 
 prodotti enogastronomici e dell’artigianato\, vere eccellenze del made in 
 Italy. Tra queste\, tante sono tipiche della Campania.&nbsp\;\nIngresso gr
 atuito tutti i giorni.&nbsp\; Info 375 5643840.\n https://nuovo.discoverca
 mpania.it/calendario-eventi/Evento/963-gusto-italia-in-tour
DTSTART:20220825T150000Z
DTEND:20220828T210000Z
LOCATION:84068 Acciaroli SA\, Italia (84068 Acciaroli SA\, Italia)
SUMMARY:Gusto Italia in tour
URL:https://nuovo.discovercampania.it/calendario-eventi/Evento/963-gusto-it
 alia-in-tour
END:VEVENT
END:VCALENDAR
