BEGIN:VCALENDAR
VERSION:2.0
PRODID:-//https://nuovo.discovercampania.it///NONSGML kigkonsult.se iCalcreator 2.10.15//
METHOD:PUBLISH
BEGIN:VEVENT
UID:20260426T024614CEST-682654LkKU@https://nuovo.discovercampania.it/
DTSTAMP:20260426T004614Z
DESCRIPTION:Concerto per la pace I Solisti di Kiev\nNella magnifica cornice
  del monumento nel cuore di Napoli si esibirà il grande oboista Francesco 
 Di Rosa\, primo solista nell’Orchestra dell’Accademia Nazionale di Santa C
 ecilia. L’intero ricavato del concerto sarà devoluto all’Orchestra di musi
 ca da camera ucraina\, con i migliori musicisti del Paese attualmente in g
 uerra.\nIngresso euro 10.15 o 20.00 (dipende dal posto)&nbsp\;\nSuper gree
 n pass e mascherina Ffp2\n https://nuovo.discovercampania.it/calendario-ev
 enti/Evento/874-concerto-per-la-pace
DTSTART:20220311T200000Z
DTEND:20220311T220000Z
LOCATION:Complesso monumentale di Donnaregina – Largo Donnaregina (Largo Do
 nnaregina\, 80138 Napoli NA\, Italia)
SUMMARY:Concerto per la pace
URL:https://nuovo.discovercampania.it/calendario-eventi/Evento/874-concerto
 -per-la-pace
END:VEVENT
END:VCALENDAR
