BEGIN:VCALENDAR
VERSION:2.0
PRODID:-//https://nuovo.discovercampania.it///NONSGML kigkonsult.se iCalcreator 2.10.15//
METHOD:PUBLISH
BEGIN:VEVENT
UID:20260425T212632CEST-45041Sl0Ff@https://nuovo.discovercampania.it/
DTSTAMP:20260425T192632Z
DESCRIPTION:\nLunedì 17 gennaio 2022 - Ore 19.00\nConcerto gratuito a quatt
 ro voci e chitarre dedicato alla storia della canzone napoletana con Lello
  Giulivo\, Gianni Lamagna\, Anna Spagnuolo e Patrizia Spinosi.\nPrenotazio
 ne obbligatoria fino ad esaurimento posti a&nbsp\;info@soundfly.it&nbsp\;e
  al 328 6188754\nObbligatori Super Green pass e mascherina FFP2\n https://
 nuovo.discovercampania.it/calendario-eventi/Evento/852-paese-mio-bello-la-
 festa-del-fuoco
DTSTART;VALUE=DATE:20220117
LOCATION:Sala Italia di Castel dell’Ovo – via Eldorado (Via Eldorado\, 3\, 
 80132 Napoli NA\, Italia)
SUMMARY:Paese mio bello\, la Festa del Fuoco
URL:https://nuovo.discovercampania.it/calendario-eventi/Evento/852-paese-mi
 o-bello-la-festa-del-fuoco
END:VEVENT
END:VCALENDAR
