BEGIN:VCALENDAR
VERSION:2.0
PRODID:-//https://nuovo.discovercampania.it///NONSGML kigkonsult.se iCalcreator 2.10.15//
METHOD:PUBLISH
BEGIN:VEVENT
UID:20260426T025101CEST-2657tvnTiV@https://nuovo.discovercampania.it/
DTSTAMP:20260426T005101Z
DESCRIPTION:\nDal 20 dicembre al 10 gennaio\nDi mattina e di sera percorso 
 enogastronomico dedicato all’agrume tipico del periodo natalizio\, protago
 nista dell’annuale manifestazione che lo racconta e lo valorizza tra i Cam
 pi Flegrei e l’isola d’Ischia.\n28 dicembre – Borgo di Sant’Angelo\, Serra
 ra Fontana - Ore 12.00\nManifestazione in piazza con artigiani e degustazi
 oni legate al mandarino\n https://nuovo.discovercampania.it/calendario-eve
 nti/Evento/840-festa-del-mandarino-dei-campi-flegrei
DTSTART:20211220T100000Z
DTEND:20220101T190000Z
LOCATION: Lacco Ameno\, corso Angelo Rizzoli (Corso Angelo Rizzoli\, Lacco 
 Ameno NA\, Italia)
SUMMARY:Festa del Mandarino dei Campi Flegrei
URL:https://nuovo.discovercampania.it/calendario-eventi/Evento/840-festa-de
 l-mandarino-dei-campi-flegrei
END:VEVENT
END:VCALENDAR
