BEGIN:VCALENDAR
VERSION:2.0
PRODID:-//https://nuovo.discovercampania.it///NONSGML kigkonsult.se iCalcreator 2.10.15//
METHOD:PUBLISH
BEGIN:VEVENT
UID:20260424T233833CEST-10133M3pCt@https://nuovo.discovercampania.it/
DTSTAMP:20260424T213833Z
DESCRIPTION:\n8 dicembre ore 20.30 – piazza Trieste\nTradizionale accension
 e dell’albero di Natale nel borgo\, uno dei più belli d’Italia\, dove port
 oni e cortili vestiti a festa sono aperti in questi giorni per accogliere 
 botteghe di antichi mestieri e stand per le degustazioni di prodotti tipic
 i.\n https://nuovo.discovercampania.it/calendario-eventi/Evento/834-natale
 -al-borgo-accensione-dellalbero-di-natale
DTSTART:20211208T125000Z
DTEND:20211208T193000Z
LOCATION:Sant’Agata de’ Goti (BN) (Sant’Agata de’ Goti (BN))
SUMMARY:Natale al borgo\, accensione dell’albero di Natale
URL:https://nuovo.discovercampania.it/calendario-eventi/Evento/834-natale-a
 l-borgo-accensione-dellalbero-di-natale
END:VEVENT
END:VCALENDAR
