BEGIN:VCALENDAR
VERSION:2.0
PRODID:-//https://nuovo.discovercampania.it///NONSGML kigkonsult.se iCalcreator 2.10.15//
METHOD:PUBLISH
BEGIN:VEVENT
UID:20260425T052602CEST-638767oz6S@https://nuovo.discovercampania.it/
DTSTAMP:20260425T032602Z
DESCRIPTION:\nSabato 8 marzo 2025\, in occasione della Giornata internazion
 ale della donna\, è previsto l'ingresso gratuito per tutte le donne in mus
 ei\, parchi archeologici\, complessi monumentali\, castelli\, ville e giar
 dini storici e altri luoghi della cultura statali.\nPorte aperte gratuitam
 ente per le donne\, quindi\, anche nei musei e luoghi della cultura statal
 i di Napoli.\nVisite guidate e altre iniziative a tema\, mirate a sensibil
 izzare il pubblico dei musei sull’importanza culturale della Giornata.\n\n
 PER INFORMAZIONI:\nhttps://cultura.gov.it/evento/8-marzo-2025\nPRENOTAZION
 E OBBLIGATORIA https://nuovo.discovercampania.it/calendario-eventi/Evento/
 1545-8-marzo-al-museo
DTSTART;VALUE=DATE:20250308
LOCATION:Regione Campania ()
SUMMARY:8 Marzo al Museo
URL:https://nuovo.discovercampania.it/calendario-eventi/Evento/1545-8-marzo
 -al-museo
END:VEVENT
END:VCALENDAR
