BEGIN:VCALENDAR
VERSION:2.0
PRODID:-//https://nuovo.discovercampania.it///NONSGML kigkonsult.se iCalcreator 2.10.15//
METHOD:PUBLISH
BEGIN:VEVENT
UID:20260425T052544CEST-6629gR0uzG@https://nuovo.discovercampania.it/
DTSTAMP:20260425T032544Z
DESCRIPTION: https://nuovo.discovercampania.it/calendario-eventi/Evento/147
 0-11-sagra-della-castagna-e-della-nocciola
DTSTART:20241011T083500Z
DTEND:20241020T203500Z
LOCATION:Avella – Avellino (83021 Avella AV\, Italia)
SUMMARY:11^ Sagra della Castagna e della Nocciola
URL:https://nuovo.discovercampania.it/calendario-eventi/Evento/1470-11-sagr
 a-della-castagna-e-della-nocciola
END:VEVENT
END:VCALENDAR
