BEGIN:VCALENDAR
VERSION:2.0
PRODID:-//https://nuovo.discovercampania.it///NONSGML kigkonsult.se iCalcreator 2.10.15//
METHOD:PUBLISH
BEGIN:VEVENT
UID:20260425T234225CEST-8390uAN3ai@https://nuovo.discovercampania.it/
DTSTAMP:20260425T214225Z
DESCRIPTION:Il 12 e 13 ottobre 2024\, il borgo medievale di Summonte ospite
 rà la 40ª edizione della 'Sagra della Castagna'. L'evento celebrerà l'autu
 nno con stand dolciari e gastronomici\, caldarroste\, piatti tipici\, musi
 ca\, balli e giochi popolari. I visitatori potranno partecipare a visite g
 uidate del borgo e passeggiate nei castagneti e nei boschi circostanti. ht
 tps://nuovo.discovercampania.it/calendario-eventi/Evento/1468-sagra-della-
 castagna
DTSTART:20241012T133200Z
DTEND:20241013T153200Z
LOCATION:83010 Summonte AV\, Italia (83010 Summonte AV\, Italia)
SUMMARY:Sagra della Castagna
URL:https://nuovo.discovercampania.it/calendario-eventi/Evento/1468-sagra-d
 ella-castagna
END:VEVENT
END:VCALENDAR
