BEGIN:VCALENDAR
VERSION:2.0
PRODID:-//https://nuovo.discovercampania.it///NONSGML kigkonsult.se iCalcreator 2.10.15//
METHOD:PUBLISH
BEGIN:VEVENT
UID:20260425T024609CEST-7071pcspab@https://nuovo.discovercampania.it/
DTSTAMP:20260425T004609Z
DESCRIPTION: https://nuovo.discovercampania.it/calendario-eventi/Evento/144
 7-brividi-destate
DTSTART:20240726T190000Z
DTEND:20240728T210000Z
LOCATION:Real Orto Botanico di Napoli – via Foria (Orto Botanico di Napoli\
 , Via Foria\, 223\, 80139 Napoli NA\, Italia)
SUMMARY:Brividi D'Estate 
URL:https://nuovo.discovercampania.it/calendario-eventi/Evento/1447-brividi
 -destate
END:VEVENT
END:VCALENDAR
