BEGIN:VCALENDAR
VERSION:2.0
PRODID:-//https://nuovo.discovercampania.it///NONSGML kigkonsult.se iCalcreator 2.10.15//
METHOD:PUBLISH
BEGIN:VEVENT
UID:20260425T033734CEST-1322nnVecG@https://nuovo.discovercampania.it/
DTSTAMP:20260425T013734Z
DESCRIPTION: https://nuovo.discovercampania.it/calendario-eventi/Evento/144
 2-the-church-of-illusion-museum
DTSTART:20240601T082800Z
DTEND:20241202T162800Z
LOCATION: Chiesa delle Crocelle ai Mannesi (Piazza Crocelle\, Vicoletto S. 
 Giorgio Ai Mannesi\, 6\, 80138 Napoli NA\, Italia)
SUMMARY:The Church of Illusion Museum
URL:https://nuovo.discovercampania.it/calendario-eventi/Evento/1442-the-chu
 rch-of-illusion-museum
END:VEVENT
END:VCALENDAR
