BEGIN:VCALENDAR
VERSION:2.0
PRODID:-//https://nuovo.discovercampania.it///NONSGML kigkonsult.se iCalcreator 2.10.15//
METHOD:PUBLISH
BEGIN:VEVENT
UID:20260425T222117CEST-1134pR7ljv@https://nuovo.discovercampania.it/
DTSTAMP:20260425T202117Z
DESCRIPTION: https://nuovo.discovercampania.it/calendario-eventi/Evento/143
 6-laltra-pompei-vite-comuni-allombra-del-vesuvio
DTSTART:20240615T090000Z
DTEND:20241212T220600Z
LOCATION:Parco Archeologico di Pompei – via Plinio (Via Plinio\, 26\, 80045
  Pompei NA\, Italia)
SUMMARY:L’altra Pompei. Vite comuni all’ombra del Vesuvio 
URL:https://nuovo.discovercampania.it/calendario-eventi/Evento/1436-laltra-
 pompei-vite-comuni-allombra-del-vesuvio
END:VEVENT
END:VCALENDAR
