BEGIN:VCALENDAR
VERSION:2.0
PRODID:-//https://nuovo.discovercampania.it///NONSGML kigkonsult.se iCalcreator 2.10.15//
METHOD:PUBLISH
BEGIN:VEVENT
UID:20260426T041944CEST-3217iVvgvI@https://nuovo.discovercampania.it/
DTSTAMP:20260426T021944Z
DESCRIPTION:Quattro spettacoli “Odissea cancellata” - “De rerum natura” – “
 Edipo re” – “Fedra” nella magia della sera creando un'atmosfera di rara e 
 incomparabile bellezza.Per infromazioni e ticket consultare il sito www.te
 atrodinapoli.it https://nuovo.discovercampania.it/calendario-eventi/Evento
 /1431-pompeii-theatrum-mundi
DTSTART:20240613T190000Z
DTEND:20240713T212400Z
LOCATION:Parco Archeologico di Pompei – via Plinio (Via Plinio\, 26\, 80045
  Pompei NA\, Italia)
SUMMARY:Pompeii Theatrum Mundi
URL:https://nuovo.discovercampania.it/calendario-eventi/Evento/1431-pompeii
 -theatrum-mundi
END:VEVENT
END:VCALENDAR
