BEGIN:VCALENDAR
VERSION:2.0
PRODID:-//https://nuovo.discovercampania.it///NONSGML kigkonsult.se iCalcreator 2.10.15//
METHOD:PUBLISH
BEGIN:VEVENT
UID:20260425T020957CEST-920940vrBc@https://nuovo.discovercampania.it/
DTSTAMP:20260425T000957Z
DESCRIPTION:Il programma completo su www.ischiafilmfestival.it https://nuov
 o.discovercampania.it/calendario-eventi/Evento/1429-ischia-film-festival
DTSTART:20240629T170000Z
DTEND:20240706T210000Z
LOCATION:Castello Aragonese Ischia (Ponte Aragonese\, 80077 Ischia NA\, Ita
 lia)
SUMMARY:Ischia Film Festival 
URL:https://nuovo.discovercampania.it/calendario-eventi/Evento/1429-ischia-
 film-festival
END:VEVENT
END:VCALENDAR
