BEGIN:VCALENDAR
VERSION:2.0
PRODID:-//https://nuovo.discovercampania.it///NONSGML kigkonsult.se iCalcreator 2.10.15//
METHOD:PUBLISH
BEGIN:VEVENT
UID:20260425T052601CEST-8743CAChUl@https://nuovo.discovercampania.it/
DTSTAMP:20260425T032601Z
DESCRIPTION:&nbsp\;tre imperdibili appuntamenti con l’Apericarciofo https:/
 /nuovo.discovercampania.it/calendario-eventi/Evento/1400-sagra-del-carciof
 o
DTSTART:20240425T093000Z
DTEND:20240428T210000Z
LOCATION:Pietralcina (82020 Pietrelcina BN\, Italia)
SUMMARY:Sagra del Carciofo
URL:https://nuovo.discovercampania.it/calendario-eventi/Evento/1400-sagra-d
 el-carciofo
END:VEVENT
END:VCALENDAR
