BEGIN:VCALENDAR
VERSION:2.0
PRODID:-//https://nuovo.discovercampania.it///NONSGML kigkonsult.se iCalcreator 2.10.15//
METHOD:PUBLISH
BEGIN:VEVENT
UID:20260424T145611CEST-48997TV6un@https://nuovo.discovercampania.it/
DTSTAMP:20260424T125611Z
DESCRIPTION:Cinque giorni di festeggiamenti\, dal 5 Aprile al 9 Apile. In p
 rogramma il tradizionale rito di apertura del Santuario\,la suggestiva pro
 cessione della Domenica in Albis\, e il concerto di Enzo Avitabile in Napo
 li World in Arena Pignataro che chiuderà i festeggiamenti. https://nuovo.d
 iscovercampania.it/calendario-eventi/Evento/1392-a-pagani-la-festa-della-m
 adonna-delle-galline
DTSTART:20240405T083000Z
DTEND:20240409T103000Z
LOCATION:84016 Pagani SA\, Italia (84016 Pagani SA\, Italia)
SUMMARY:A Pagani la 'Festa della Madonna delle Galline'
URL:https://nuovo.discovercampania.it/calendario-eventi/Evento/1392-a-pagan
 i-la-festa-della-madonna-delle-galline
END:VEVENT
END:VCALENDAR
