BEGIN:VCALENDAR
VERSION:2.0
PRODID:-//https://nuovo.discovercampania.it///NONSGML kigkonsult.se iCalcreator 2.10.15//
METHOD:PUBLISH
BEGIN:VEVENT
UID:20260425T021523CEST-89277tSk2v@https://nuovo.discovercampania.it/
DTSTAMP:20260425T001523Z
DESCRIPTION: https://nuovo.discovercampania.it/calendario-eventi/Evento/138
 5-mediterraneo-wine-food-and-travel
DTSTART:20240314T090000Z
DTEND:20240316T124300Z
LOCATION:Mostra d’Oltremare\, Napoli (Viale John Fitzgerald Kennedy\, 54\, 
 80125 Napoli NA\, Italia)
SUMMARY:Mediterraneo Wine & Food and Travel 
URL:https://nuovo.discovercampania.it/calendario-eventi/Evento/1385-mediter
 raneo-wine-food-and-travel
END:VEVENT
END:VCALENDAR
