BEGIN:VCALENDAR
VERSION:2.0
PRODID:-//https://nuovo.discovercampania.it///NONSGML kigkonsult.se iCalcreator 2.10.15//
METHOD:PUBLISH
BEGIN:VEVENT
UID:20260424T233828CEST-8907AvnV49@https://nuovo.discovercampania.it/
DTSTAMP:20260424T213828Z
DESCRIPTION:liberando fantasia e creatività nel segno di un mondo ricco di 
 colori ed emozioni senza età. https://nuovo.discovercampania.it/calendario
 -eventi/Evento/1381-brick-live-ocean-napoli-il-tuo-mondo-lego
DTSTART:20240315T080000Z
DTEND:20240414T200000Z
LOCATION:Mostra d’Oltremare\, Napoli (Viale John Fitzgerald Kennedy\, 54\, 
 80125 Napoli NA\, Italia)
SUMMARY:Brick Live - Ocean Napoli - Il tuo mondo LEGO
URL:https://nuovo.discovercampania.it/calendario-eventi/Evento/1381-brick-l
 ive-ocean-napoli-il-tuo-mondo-lego
END:VEVENT
END:VCALENDAR
