BEGIN:VCALENDAR
VERSION:2.0
PRODID:-//https://nuovo.discovercampania.it///NONSGML kigkonsult.se iCalcreator 2.10.15//
METHOD:PUBLISH
BEGIN:VEVENT
UID:20260425T222128CEST-4941Irepkg@https://nuovo.discovercampania.it/
DTSTAMP:20260425T202128Z
DESCRIPTION:torna ad animarsi del fascino del collezionismo\, dell’antiquar
 iato e soprattutto di tutto ciò che è vintage. https://nuovo.discovercampa
 nia.it/calendario-eventi/Evento/1376-fiera-del-vintage
DTSTART:20240224T090000Z
DTEND:20240225T190000Z
LOCATION:Caserta – Corso Trieste (Corso Trieste\, 81100 Caserta CE\, Italia
 )
SUMMARY:Fiera del Vintage
URL:https://nuovo.discovercampania.it/calendario-eventi/Evento/1376-fiera-d
 el-vintage
END:VEVENT
END:VCALENDAR
