BEGIN:VCALENDAR
VERSION:2.0
PRODID:-//https://nuovo.discovercampania.it///NONSGML kigkonsult.se iCalcreator 2.10.15//
METHOD:PUBLISH
BEGIN:VEVENT
UID:20260424T115956CEST-8016Bnpguc@https://nuovo.discovercampania.it/
DTSTAMP:20260424T095956Z
DESCRIPTION:Apertura straordinaria del Parco Archeologico dell’Appia di Mon
 dragone e della Villa Romana di San Limato di Cellole\n&nbsp\;Martedì 6\, 
 13\, 20\, 27 febbraio\, 5\, 12\, 19 e 26 marzo\, 2\, 9\, 16\, 23 e 30 apri
 le https://nuovo.discovercampania.it/calendario-eventi/Evento/1375-visita-
 al-parco-archeologico-dellappia
DTSTART:20240201T090000Z
DTEND:20240430T152900Z
LOCATION:Mondragone (81034 Mondragone CE\, Italia)
SUMMARY:Visita al Parco Archeologico dell’Appia
URL:https://nuovo.discovercampania.it/calendario-eventi/Evento/1375-visita-
 al-parco-archeologico-dellappia
END:VEVENT
END:VCALENDAR
