BEGIN:VCALENDAR
VERSION:2.0
PRODID:-//https://nuovo.discovercampania.it///NONSGML kigkonsult.se iCalcreator 2.10.15//
METHOD:PUBLISH
BEGIN:VEVENT
UID:20260425T052538CEST-3067smNtz6@https://nuovo.discovercampania.it/
DTSTAMP:20260425T032538Z
DESCRIPTION: https://nuovo.discovercampania.it/calendario-eventi/Evento/134
 5-i-pooh-amici-x-sempre
DTSTART:20231231T210000Z
DTEND:20231231T225900Z
LOCATION:Salerno - Piazza della Liberà (P.za della Libertà\, 84121 Salerno 
 SA\, Italia)
SUMMARY:I Pooh - Amici x sempre 
URL:https://nuovo.discovercampania.it/calendario-eventi/Evento/1345-i-pooh-
 amici-x-sempre
END:VEVENT
END:VCALENDAR
