BEGIN:VCALENDAR
VERSION:2.0
PRODID:-//https://nuovo.discovercampania.it///NONSGML kigkonsult.se iCalcreator 2.10.15//
METHOD:PUBLISH
BEGIN:VEVENT
UID:20260425T052544CEST-08513WbKlK@https://nuovo.discovercampania.it/
DTSTAMP:20260425T032544Z
DESCRIPTION:Due preziosissimi eseplari interamente su pergamena purpurea\, 
 vergati in inchiostri d'argento e d'oro: Il Vangel ravennate e il Lezionar
 io. La mostra è arricchita da codici rinascimentali e umanistici.&nbsp\; h
 ttps://nuovo.discovercampania.it/calendario-eventi/Evento/1339-di-porpora-
 e-di-luce
DTSTART:20231201T090000Z
DTEND:20240206T170000Z
LOCATION:Biblioteca nazionale di Napoli (Piazza del Plebiscito\, 1\, 80132 
 Napoli NA\, Italia)
SUMMARY:Di Porpora e di Luce
URL:https://nuovo.discovercampania.it/calendario-eventi/Evento/1339-di-porp
 ora-e-di-luce
END:VEVENT
END:VCALENDAR
