BEGIN:VCALENDAR
VERSION:2.0
PRODID:-//https://nuovo.discovercampania.it///NONSGML kigkonsult.se iCalcreator 2.10.15//
METHOD:PUBLISH
BEGIN:VEVENT
UID:20260425T023551CEST-2925IIZBEh@https://nuovo.discovercampania.it/
DTSTAMP:20260425T003551Z
DESCRIPTION:Ogni mese un sito diverso\, con aperture straordinarie serali. 
 Nel mese di Novembre\, di sabato\,&nbsp\;sarà possibile visitare le ville 
 di Stabia: Villa Arianna e Villa San Marco.&nbsp\;Ingresso gratuito. https
 ://nuovo.discovercampania.it/calendario-eventi/Evento/1332-una-sera-dautun
 no-stabia
DTSTART:20231118T170000Z
DTEND:20231125T210000Z
LOCATION:Scavi di Stabia (Passeggiata Archeologica\, 80053 Castellammare di
  Stabia NA\, Italia)
SUMMARY:Una sera d'autunno - Stabia
URL:https://nuovo.discovercampania.it/calendario-eventi/Evento/1332-una-ser
 a-dautunno-stabia
END:VEVENT
END:VCALENDAR
