BEGIN:VCALENDAR
VERSION:2.0
PRODID:-//https://nuovo.discovercampania.it///NONSGML kigkonsult.se iCalcreator 2.10.15//
METHOD:PUBLISH
BEGIN:VEVENT
UID:20260424T185719CEST-7542R2vGk0@https://nuovo.discovercampania.it/
DTSTAMP:20260424T165719Z
DESCRIPTION:Ritorna la festa del Cioccolato di Choco Italia in Tour in Piaz
 za Dante e Corso Trieste a Caserta. Un grande Tour Festival/Mercatino del 
 cioccolato Artigianale. https://nuovo.discovercampania.it/calendario-event
 i/Evento/1328-festa-del-buon-cioccolato-artigianale-di-choco-italia-in-tou
 r-a-caserta
DTSTART:20231102T111100Z
DTEND:20231102T131100Z
LOCATION:Piazza Dante & Corso Trieste\, 81100 Caserta CE\, Italia (Piazza D
 ante & Corso Trieste\, 81100 Caserta CE\, Italia)
SUMMARY:Festa del buon Cioccolato Artigianale di Choco Italia in Tour a Cas
 erta 
URL:https://nuovo.discovercampania.it/calendario-eventi/Evento/1328-festa-d
 el-buon-cioccolato-artigianale-di-choco-italia-in-tour-a-caserta
END:VEVENT
END:VCALENDAR
