BEGIN:VCALENDAR
VERSION:2.0
PRODID:-//https://nuovo.discovercampania.it///NONSGML kigkonsult.se iCalcreator 2.10.15//
METHOD:PUBLISH
BEGIN:VEVENT
UID:20260424T233825CEST-5425V6TSlz@https://nuovo.discovercampania.it/
DTSTAMP:20260424T213825Z
DESCRIPTION:Vincenzo Salemme Natale in casa Cupiello di Eduardo De Filippo 
 al Teatro Diana dal 01/11/ 23 al 17/12/23 ore 21:00 Salemme porterà in sce
 na il suo personale punto di vista in una delle opere più intense e strugg
 enti del teatro del '900\, con semplicità e amore. https://nuovo.discoverc
 ampania.it/calendario-eventi/Evento/1317-natale-in-casa-cupiello-di-eduard
 o-de-filippo
DTSTART:20231101T160000Z
DTEND:20231117T165300Z
LOCATION:Via Luca Giordano\, 64\, 80127 Napoli NA\, Italia (Via Luca Giorda
 no\, 64\, 80127 Napoli NA\, Italia)
SUMMARY:Natale in casa Cupiello di Eduardo De Filippo
URL:https://nuovo.discovercampania.it/calendario-eventi/Evento/1317-natale-
 in-casa-cupiello-di-eduardo-de-filippo
END:VEVENT
END:VCALENDAR
