BEGIN:VCALENDAR
VERSION:2.0
PRODID:-//https://nuovo.discovercampania.it///NONSGML kigkonsult.se iCalcreator 2.10.15//
METHOD:PUBLISH
BEGIN:VEVENT
UID:20260424T191351CEST-00596R8jpV@https://nuovo.discovercampania.it/
DTSTAMP:20260424T171351Z
DESCRIPTION:dal 16/09/2023 al 07/01/2024 dalle ore 10 alle ore 18 Prima tap
 pa in Italia per il museo dell'Amore Universale\, un'esplosione di colori 
 e divertimento per tutta la famiglia. L'esposizione\, tutta instagrammabil
 e\, racchiude in un unico percorso diverse stanze tematiche e scenari colo
 ratissimi https://nuovo.discovercampania.it/calendario-eventi/Evento/1293-
 love-museum
DTSTART:20230916T130900Z
DTEND:20240107T160900Z
LOCATION:Via Medina\, 24\, 80133 Napoli NA\, Italia (Via Medina\, 24\, 8013
 3 Napoli NA\, Italia)
SUMMARY:Love Museum
URL:https://nuovo.discovercampania.it/calendario-eventi/Evento/1293-love-mu
 seum
END:VEVENT
END:VCALENDAR
