BEGIN:VCALENDAR
VERSION:2.0
PRODID:-//https://nuovo.discovercampania.it///NONSGML kigkonsult.se iCalcreator 2.10.15//
METHOD:PUBLISH
BEGIN:VEVENT
UID:20260426T041914CEST-7275632kSS@https://nuovo.discovercampania.it/
DTSTAMP:20260426T021914Z
DESCRIPTION: https://nuovo.discovercampania.it/calendario-eventi/Evento/120
 4-amanapoli-quarta-edizione
DTSTART:20230828T191500Z
DTEND:20230828T215900Z
LOCATION:NAPOLI – Maschio Angioino (Via Vittorio Emanuele III\, 80133 Napol
 i NA\, Italia)
SUMMARY:Amanapoli (quarta edizione)
URL:https://nuovo.discovercampania.it/calendario-eventi/Evento/1204-amanapo
 li-quarta-edizione
END:VEVENT
END:VCALENDAR
