BEGIN:VCALENDAR
VERSION:2.0
PRODID:-//https://nuovo.discovercampania.it///NONSGML kigkonsult.se iCalcreator 2.10.15//
METHOD:PUBLISH
BEGIN:VEVENT
UID:20260423T213520CEST-6987pzAvwZ@https://nuovo.discovercampania.it/
DTSTAMP:20260423T193520Z
DESCRIPTION: https://nuovo.discovercampania.it/calendario-eventi/Evento/119
 9-das-rheingold-ravello-festival
DTSTART:20230820T180000Z
DTEND:20230820T215900Z
LOCATION:Piazza Duomo\, 84010 Ravello SA\, Italia (Piazza Duomo\, 84010 Rav
 ello SA\, Italia)
SUMMARY:DAS RHEINGOLD - Ravello Festival 
URL:https://nuovo.discovercampania.it/calendario-eventi/Evento/1199-das-rhe
 ingold-ravello-festival
END:VEVENT
END:VCALENDAR
