BEGIN:VCALENDAR
VERSION:2.0
PRODID:-//https://nuovo.discovercampania.it///NONSGML kigkonsult.se iCalcreator 2.10.15//
METHOD:PUBLISH
BEGIN:VEVENT
UID:20260425T171856CEST-2214zVaFoO@https://nuovo.discovercampania.it/
DTSTAMP:20260425T151856Z
DESCRIPTION: https://nuovo.discovercampania.it/calendario-eventi/Evento/119
 1-vesuvio-sotto-le-stelle
DTSTART:20230801T163000Z
DTEND:20230901T193000Z
LOCATION:Via Contrada Osservatorio\, Ercolano (Contrada Osservatorio\, 19\,
  80056 Ercolano NA\, Italia)
SUMMARY:Vesuvio sotto le stelle 
URL:https://nuovo.discovercampania.it/calendario-eventi/Evento/1191-vesuvio
 -sotto-le-stelle
END:VEVENT
END:VCALENDAR
