BEGIN:VCALENDAR
VERSION:2.0
PRODID:-//https://nuovo.discovercampania.it///NONSGML kigkonsult.se iCalcreator 2.10.15//
METHOD:PUBLISH
BEGIN:VEVENT
UID:20260425T044228CEST-9817Z0LnEL@https://nuovo.discovercampania.it/
DTSTAMP:20260425T024228Z
DESCRIPTION:Incontri su archeologia e paesaggio \nSabato 8 luglio ore 19:00
 \nBIZANTINI: Luoghi\, simboli e comunità di un impero millenario https://n
 uovo.discovercampania.it/calendario-eventi/Evento/1130-progetto-kepos
DTSTART:20230708T160000Z
DTEND:20230708T210000Z
LOCATION:Giardini la Mortella\, Ischia (Giardini La Mortella\, Via Francesc
 o Calise Operaio Foriano\, 45\, 80075 Forio NA\, Italia)
SUMMARY:Progetto Kepos
URL:https://nuovo.discovercampania.it/calendario-eventi/Evento/1130-progett
 o-kepos
END:VEVENT
END:VCALENDAR
