BEGIN:VCALENDAR
VERSION:2.0
PRODID:-//https://nuovo.discovercampania.it///NONSGML kigkonsult.se iCalcreator 2.10.15//
METHOD:PUBLISH
BEGIN:VEVENT
UID:20260425T185033CEST-1756VBVzwg@https://nuovo.discovercampania.it/
DTSTAMP:20260425T165033Z
DESCRIPTION:11-12-18-19-21 febbraio 2023\nOltre millecinquecento figuranti\
 , provenienti da ogni zona della cittadina casertana\, abbigliati con scen
 ografici costumi e maschere\, faranno vivere a suon di musica i maestosi c
 arri allegorici a tema\, tutti realizzati con materiali di riciclo\, che s
 fileranno per le strade tra le ali di folla.&nbsp\;\nIngresso euro 5 https
 ://nuovo.discovercampania.it/calendario-eventi/Evento/1022-carnevale-del-m
 editerraneo
DTSTART:20230221T090000Z
DTEND:20230221T170000Z
LOCATION:Corso Umberto I\, Villa Literno CE\, Italia (Corso Umberto I\, Vil
 la Literno CE\, Italia)
SUMMARY:Carnevale del Mediterraneo
URL:https://nuovo.discovercampania.it/calendario-eventi/Evento/1022-carneva
 le-del-mediterraneo
END:VEVENT
END:VCALENDAR
